BEGIN:VCALENDAR
VERSION:2.0
PRODID:-//www.admidio.org//Admidio3.2.9//DE
CALSCALE:GREGORIAN
METHOD:PUBLISH
X-WR-TIMEZONE:Europe/Berlin
BEGIN:VTIMEZONE
TZID:Europe/Berlin
X-LIC-LOCATION:Europe/Berlin
BEGIN:STANDARD
DTSTART:19701025T030000
TZOFFSETFROM:+0200
TZOFFSETTO:+0100
TZNAME:CET
RRULE:FREQ=YEARLY;BYDAY=-1SU;BYMONTH=10
END:STANDARD
BEGIN:DAYLIGHT
DTSTART:19700329T020000
TZOFFSETFROM:+0100
TZOFFSETTO:+0200
TZNAME:CEST
RRULE:FREQ=YEARLY;BYDAY=-1SU;BYMONTH=3
END:DAYLIGHT
END:VTIMEZONE
BEGIN:VEVENT
CREATED:20180114T134415
LAST-MODIFIED:
UID:20180114T134415+217@portal.surfclub-erding.de
SUMMARY:Uferbeschneidung (ausholzen)
DESCRIPTION: 
DTSTAMP:20260421T125920
LOCATION:Vereinsgelände
DTSTART;TZID=Europe/Berlin:20180120T080000
DTEND;TZID=Europe/Berlin:20180120T130000
END:VEVENT
END:VCALENDAR