BEGIN:VCALENDAR
VERSION:2.0
PRODID:-//www.admidio.org//Admidio3.2.9//DE
CALSCALE:GREGORIAN
METHOD:PUBLISH
X-WR-TIMEZONE:Europe/Berlin
BEGIN:VTIMEZONE
TZID:Europe/Berlin
X-LIC-LOCATION:Europe/Berlin
BEGIN:STANDARD
DTSTART:19701025T030000
TZOFFSETFROM:+0200
TZOFFSETTO:+0100
TZNAME:CET
RRULE:FREQ=YEARLY;BYDAY=-1SU;BYMONTH=10
END:STANDARD
BEGIN:DAYLIGHT
DTSTART:19700329T020000
TZOFFSETFROM:+0100
TZOFFSETTO:+0200
TZNAME:CEST
RRULE:FREQ=YEARLY;BYDAY=-1SU;BYMONTH=3
END:DAYLIGHT
END:VTIMEZONE
BEGIN:VEVENT
CREATED:20170625T110239
LAST-MODIFIED:
UID:20170625T110239+217@portal.surfclub-erding.de
SUMMARY:SUP Kurs für Sehbehinderte aus München
DESCRIPTION:Am 2.7 werden wir soweit das Wetter passt\, ab 14 Uhr für eine Gruppe von ca. 10 sehbehinderten

Jungendlichen & Betreuern einen SUP Tag gestalten.

Dadurch stehen an diesem Tag keine Kinder und Vereins SUP zur Verfügung.

Vielen Dank für euer Verständniss.

Der Vorstand.
 
DTSTAMP:20260421T130200
LOCATION:Vereinsgelände
DTSTART;TZID=Europe/Berlin:20170702T140000
DTEND;TZID=Europe/Berlin:20170702T180000
END:VEVENT
END:VCALENDAR